{"text_format":"1","workbook":"xlsx","n_sheets":6,"sheets":["報表","CH","EN","月底在監","10931-01-206","10931-01-706"],"not_rendered":{"charts":0,"images":0,"macros":1,"external_links":0,"defined_names":3,"comments":0,"pivot_tables":0},"unopened":[],"bounds":{"document_bytes":16777216,"sheet_cells":100000,"rows_first":2000,"rows_last":500,"rows_between":2000,"halvings":0,"cell_chars":16384,"cell_head_chars":4096},"cells_cut":0,"cells_raw":0,"read":"whole","date_system":"1900"}

{"sheet":"報表","index":0,"n_rows":21,"n_cols":23,"rows_kept":21,"cut":false,"hidden":true,"merged":[[2,13,3,13],[0,0,0,10],[1,0,3,0],[1,1,1,5],[1,6,1,10],[2,1,3,1],[2,2,3,2],[2,3,3,3],[2,4,3,4],[2,5,3,5],[2,6,3,6],[2,7,3,7],[2,8,3,8],[2,9,3,9],[2,10,3,10],[2,12,3,12],[2,20,3,20],[2,21,3,21],[2,14,3,14],[2,15,3,15],[2,16,3,16],[2,17,3,17],[2,18,3,18],[2,19,3,19]]}
["法務部矯正署苗栗看守所及其附設勒戒處所近五年收容人收容情形",null,null,null,null,null,null,null,null,null,null,null,"D2英文版看守所附設勒戒在出所人數"]
["年月別","看 守 所 收 容 人 數",null,null,null,null,"看守所附設勒戒所人數",null,null,null,null,null,{"$f":"B16+G16","v":315},{"$f":"C16+H16","v":67},248,266,49]
[null,"總計","在所人數     上年︵月︶底","新入所人數","出所人數","年︵月︶底在所","總計","在所人數     上年︵月︶底","新入所人數","出所人數","年︵月︶底在所",null,"總計","在所人數     上年︵月︶底","新入所人數","出所人數","年︵月︶底在所","總計","在所人數     上年︵月︶底","新入所人數","出所人數","年︵月︶底在所"]
[]
["94年",{"$f":"C5+D5","v":868},123,{"$f":"39+57+66+73+89+77+61+76+56+73+46+32","v":745},{"$f":"42+60+55+50+69+64+69+86+58+66+80+71","v":770},{"$f":"B5-E5","v":98},{"$f":"H5+I5","v":380},35,{"$f":"27+37+39+27+25+36+23+31+25+23+31+21","v":345},{"$f":"28+25+38+30+37+23+31+31+26+23+28+25","v":345},{"$f":"G5-J5","v":35}]
["96年",886,84,802,734,152,348,36,312,304,44,null,{"$f":"B6+G6","v":1234},{"$f":"C6+H6","v":120},{"$f":"D6+I6","v":1114},{"$f":"E6+J6","v":1038},{"$f":"F6+K6","v":196}]
["97年",{"$f":"C7+D7","v":730},152,578,669,{"$f":"B7-E7","v":61},{"$f":"H7+I7","v":320},44,276,298,{"$f":"G7-J7","v":22},null,{"$f":"B7+G7","v":1050},196,854,967,83]
["98年",{"$f":"C8+D8","v":512},61,451,448,{"$f":"B8-E8","v":64},{"$f":"H8+I8","v":228},22,206,203,{"$f":"G8-J8","v":25},null,740,83,657,651,89]
["99年",{"$f":"C9+D9","v":491},64,427,404,{"$f":"B9-E9","v":87},{"$f":"H9+I9","v":290},25,265,241,{"$f":"G9-J9","v":49},null,781,89,692,645,136]
["100年",{"$f":"C10+D10","v":494},87,407,431,{"$f":"B10-E10","v":63},{"$f":"H10+I10","v":238},49,189,237,1,null,732,136,596,668,64]
["101年",440,63,377,364,76,78,1,77,77,1,null,518,64,454,441,77]
["102年",383,76,307,333,50,56,1,55,56,0,null,439,77,362,389,50]
["103年",366,50,316,316,50,76,0,76,75,1,null,442,50,392,391,51]
["104年",253,50,203,215,38,68,1,67,68,0,null,321,51,270,283,38]
["105年",307,38,269,240,67,90,0,90,90,0]
["106年1-8月",250,67,183,203,47,65,0,65,63,2,null,315,67,248,266,49]
["說明：1.看守所收容人數包含被告、留置流氓及民事應管收人。 ",null,null,null,null,null,null,null,null,null,null,null,{"$f":"N17+O17","v":203},{"$f":"N18","v":67},{"$f":"O18+O19","v":136},{"$f":"P18+P19","v":155},{"$f":"N17+O17-P17","v":48},{"$f":"S17+T17","v":43},{"$f":"S18","v":0},{"$f":"T18+T19","v":43},{"$f":"U18+U19","v":42},{"$f":"S17+T17-U17","v":1},"3.將橘色區塊->貼回左方正式表"]
["      2.看守所附設勒戒所人數包含成年受觀察勒戒人及受戒治人。",null,null,null,null,null,null,null,null,null,null,"上累",175,67,108,124,51,32,0,32,32,0,"1.將左方正式表->貼值在\"上累\""]
["      2.依據苗栗看守所1724-01-21-05報表、看守所附設勒戒所1724-01-71-11報表編製。",null,null,null,null,null,null,null,null,null,null,"本月",{"$f":"N19+O19","v":79},51,28,31,{"$f":"N19+O19-P19","v":48},{"$f":"S19+T19","v":11},0,11,10,{"$f":"S19+T19-U19","v":1},"2.key綠色部分"]
[]
[null,null,null,null,null,null,null,null,null,null,null,"英文~2",null,{"$f":"N19+S19","v":51},{"$f":"O19+T19","v":39},{"$f":"P19+U19","v":41},{"$f":"Q19+V19","v":49}]

{"sheet":"CH","index":1,"n_rows":31,"n_cols":18,"rows_kept":31,"cut":false,"hidden":false,"merged":[[0,0,0,10],[1,0,3,0],[1,1,1,5],[1,6,1,10],[2,1,3,1],[2,2,3,2],[2,3,3,3],[2,4,3,4],[2,5,3,5],[2,6,3,6],[2,7,3,7],[2,8,3,8],[2,9,3,9],[2,10,3,10]]}
["法務部矯正署苗栗看守所及其附設勒戒處所近五年收容人收容情形",null,null,null,null,null,null,null,null,null,null,null,null,"D2英文版看守所附設勒戒在出所人數"]
["年月別","看 守 所 收 容 人 數",null,null,null,null,"看守所附設勒戒所人數",null,null,null,null,null,null,{"$f":"B22+G22","v":179},{"$f":"C22+H22","v":87},92,89,90]
[null,"總計","在所人數     上年︵月︶底","新入所人數","出所人數","年︵月︶底在所","總計","在所人數     上年︵月︶底","新入所人數","出所人數","年︵月︶底在所"]
[]
["94年",{"$f":"C5+D5","v":868},123,{"$f":"39+57+66+73+89+77+61+76+56+73+46+32","v":745},{"$f":"42+60+55+50+69+64+69+86+58+66+80+71","v":770},{"$f":"B5-E5","v":98},{"$f":"H5+I5","v":380},35,{"$f":"27+37+39+27+25+36+23+31+25+23+31+21","v":345},{"$f":"28+25+38+30+37+23+31+31+26+23+28+25","v":345},{"$f":"G5-J5","v":35}]
["96年",886,84,802,734,152,348,36,312,304,44]
["97年",{"$f":"C7+D7","v":730},152,578,669,{"$f":"B7-E7","v":61},{"$f":"H7+I7","v":320},44,276,298,{"$f":"G7-J7","v":22}]
["98年",{"$f":"C8+D8","v":512},61,451,448,{"$f":"B8-E8","v":64},{"$f":"H8+I8","v":228},22,206,203,{"$f":"G8-J8","v":25}]
["99年",{"$f":"C9+D9","v":491},64,427,404,{"$f":"B9-E9","v":87},{"$f":"H9+I9","v":290},25,265,241,{"$f":"G9-J9","v":49}]
["100年",{"$f":"C10+D10","v":494},87,407,431,{"$f":"B10-E10","v":63},{"$f":"H10+I10","v":238},49,189,237,1]
["101年",440,63,377,364,76,78,1,77,77,1]
["102年",383,76,307,333,50,56,1,55,56,0]
["103年",366,50,316,316,50,76,0,76,75,1]
["104年",253,50,203,215,38,68,1,67,68,0]
["108年",287,82,205,270,17,60,0,60,60,0]
["109年",193,17,176,146,47,57,0,57,55,2]
["110年",314,47,267,253,61,683,2,681,592,91]
["111年",295,61,234,259,36,1077,91,986,1040,37]
["112年",304,36,268,251,53,371,37,334,333,38]
["113年",398,53,345,302,96,242,38,204,242,0]
["114年",530,96,434,443,87,61,0,61,61,0]
["115年1月至2月",{"$f":"SUM(C22:D22)","v":162},87,{"$f":"D31","v":75},{"$f":"E31","v":73},{"$f":"F31","v":89},{"$f":"SUM(H22:I22)","v":17},0,{"$f":"I31","v":17},{"$f":"J31","v":16},{"$f":"K31","v":1}]
["說明：1.看守所收容人數包含被告、留置流氓及民事應管收人。 "]
["      2.看守所附設勒戒所人數包含成年受觀察勒戒人及受戒治人。"]
["      3.107年4月前依據苗栗看守所1724-01-21-05報表、看守所附設勒戒所1724-01-71-11報表編製。"]
["      4.107年5月起依據苗栗看守所10931-02-201報表、看守所附設勒戒所10931-02-701報表編製。"]
[]
[]
[]
[]
[null,null,null,{"$f":"'10931-01-206'!D10","v":75},{"$f":"'10931-01-206'!D13","v":73},{"$f":"月底在監!D11","v":89},null,null,{"$f":"'10931-01-706'!D10","v":17},{"$f":"'10931-01-706'!D13","v":16},{"$f":"月底在監!F11","v":1},null,"總年度月底在所人數欄位要修改"]

{"sheet":"EN","index":2,"n_rows":27,"n_cols":11,"rows_kept":27,"cut":false,"hidden":false,"merged":[[3,7,4,7],[3,8,4,8],[3,9,4,9],[3,10,4,10],[0,0,0,10],[2,0,4,0],[2,1,2,5],[2,6,2,10],[3,1,4,1],[3,2,4,2],[3,3,4,3],[3,4,4,4],[3,5,4,5],[3,6,4,6]]}
["Maoli Detention Center, \nAgency of Corrections, Ministry of Justice\nNumber of Inmates of Detention Center over Past Five Years"]
[null,null,null,null,null,null,null,null,null,null,"Unit: Persons"]
["Year(Month)","Detention Center (only)",null,null,null,null,"Rehabilitation Center \n(attached to Detention Center)"]
[null,"Total","At the end \nof the prior Year\n(Month)","New Entrants","Out of Detention Center","At the end \nof the Year\n(Month)","Total","At the end \nof the prior Year\n(Month)","New Entrants","Out of Detention Center","At the end \nof the Year\n(Month)"]
[]
["94年",{"$f":"C6+D6","v":868},123,{"$f":"39+57+66+73+89+77+61+76+56+73+46+32","v":745},{"$f":"42+60+55+50+69+64+69+86+58+66+80+71","v":770},{"$f":"B6-E6","v":98},{"$f":"H6+I6","v":380},35,{"$f":"27+37+39+27+25+36+23+31+25+23+31+21","v":345},{"$f":"28+25+38+30+37+23+31+31+26+23+28+25","v":345},{"$f":"G6-J6","v":35}]
["96年",886,84,802,734,152,348,36,312,304,44]
["97年",{"$f":"C8+D8","v":730},152,578,669,{"$f":"B8-E8","v":61},{"$f":"H8+I8","v":320},44,276,298,{"$f":"G8-J8","v":22}]
["98年",{"$f":"C9+D9","v":512},61,451,448,{"$f":"B9-E9","v":64},{"$f":"H9+I9","v":228},22,206,203,{"$f":"G9-J9","v":25}]
["99年",{"$f":"C10+D10","v":491},64,427,404,{"$f":"B10-E10","v":87},{"$f":"H10+I10","v":290},25,265,241,{"$f":"G10-J10","v":49}]
["100年",{"$f":"C11+D11","v":494},87,407,431,{"$f":"B11-E11","v":63},{"$f":"H11+I11","v":238},49,189,237,1]
["101年",440,63,377,364,76,78,1,77,77,1]
["102年",383,76,307,333,50,56,1,55,56,0]
[2014,{"$f":"CH!B13","v":366},{"$f":"CH!C13","v":50},{"$f":"CH!D13","v":316},{"$f":"CH!E13","v":316},{"$f":"CH!F13","v":50},{"$f":"CH!G13","v":76},{"$f":"CH!H13","v":0},{"$f":"CH!I13","v":76},{"$f":"CH!J13","v":75},{"$f":"CH!K13","v":1}]
[2015,{"$f":"CH!B14","v":253},{"$f":"CH!C14","v":50},{"$f":"CH!D14","v":203},{"$f":"CH!E14","v":215},{"$f":"CH!F14","v":38},{"$f":"CH!G14","v":68},{"$f":"CH!H14","v":1},{"$f":"CH!I14","v":67},{"$f":"CH!J14","v":68},{"$f":"CH!K14","v":0}]
[2019,287,82,205,270,17,60,0,60,60,0]
[2020,193,17,176,146,47,57,0,57,55,2]
[2021,314,47,267,253,61,683,2,681,592,91]
[2022,295,61,234,259,36,1077,91,986,1040,37]
["2023",304,36,268,251,53,371,37,334,333,38]
["2024",398,53,345,302,96,242,38,204,242,0]
["2025",530,96,434,443,87,61,0,61,61,0]
["Jan-Feb-2026",{"$f":"CH!B22","v":162},87,{"$f":"CH!D22","v":75},{"$f":"CH!E22","v":73},{"$f":"CH!F22","v":89},{"$f":"CH!G22","v":17},{"$f":"CH!H22","v":0},{"$f":"CH!I22","v":17},{"$f":"CH!J22","v":16},{"$f":"CH!K22","v":1}]
["1. The number of inmates of detention center includes defendants, hooligan under custody, and Inmates, people  "]
["　 under custody."]
["2. The number of inmates of rehabilitation center includes people under observation and people receiving "]
["　 rehabilitation(detoxification)."]

{"sheet":"月底在監","index":3,"n_rows":13,"n_cols":9,"rows_kept":13,"cut":false,"hidden":false,"merged":[[4,5,9,5],[1,0,1,5],[13,0,13,5],[2,2,2,4],[4,0,9,0],[4,1,9,1],[4,2,9,2],[4,3,9,3],[4,4,9,4]]}
[]
["法務部矯正署苗栗看守所每日在監(所)各類收容人數"]
[null,null,"115年2月28日"]
[null,null,null,null,null,"單位：人"]
["性  別","總計","受刑人","被管收人\n被告及","收容少年","成年受觀察勒戒人"]
[null,null,null,null,null,null,null,null,{"$f":"(B11-667)/667","v":0.11094452773613193}]
[]
[]
[]
[]
["總計",{"$f":"SUM(B12:B13)","v":741},643,89,8,1]
["男",{"$f":"SUM(C12:F12)","v":655},572,76,6,1]
["女",{"$f":"SUM(C13:F13)","v":86},71,13,2,0]

{"sheet":"10931-01-206","index":4,"n_rows":22,"n_cols":36,"rows_kept":22,"cut":false,"hidden":false,"merged":[[9,0,11,1],[12,0,14,1],[15,0,17,1],[20,0,20,35],[21,0,21,35],[7,22,8,22],[7,35,8,35],[7,24,8,24],[7,25,8,25],[7,26,8,26],[7,27,8,27],[7,28,8,28],[7,29,8,29],[7,30,8,30],[7,31,8,31],[7,32,8,32],[7,33,8,33],[7,34,8,34],[7,17,8,17],[7,18,8,18],[7,19,8,19],[7,20,8,20],[7,21,8,21],[5,0,5,35],[7,0,8,2],[7,3,7,4],[7,5,8,5],[7,6,8,6],[7,7,8,7],[7,8,8,8],[7,9,8,9],[7,10,8,10],[7,11,8,11],[7,23,8,23],[7,12,8,12],[7,13,8,13],[7,14,8,14],[7,15,8,15],[7,16,8,16],[4,0,4,35],[2,30,2,31],[2,32,2,35],[3,1,3,5],[3,30,3,31],[3,32,3,35]]}
["法務部矯正署苗栗看守所被告每日入、出及在所人數(含被管收人)","公　開　類","月　　　報","月報次月10日、年報次年1月15日前編製","苗栗看守所","10931-01-206","中華民國115年 1月至 2月"]
["各看守所依被告之刑案及身分資料查編，統計資料透過獄政管理系統傳送至法務部獄政主機資料庫，由法務部矯正署統計室查核並彙總編製。","1.本表各看守所查編製1式2份，1份送法務部矯正署，1份自存。\n2.本表法務部矯正署統計室彙編製1式2份，1份送法務部統計處，1份自存。","民國115年 3月 4日",null,null,null,null,{"$f":"\"中華\"&C2&\"編製\"","v":"中華民國115年 3月 4日編製"}]
[{"$f":"B1","v":"公　開　類"},null,null,null,null,null,null,null,null,null,null,null,null,null,null,null,null,null,null,null,null,null,null,null,null,null,null,null,null,null,"編製機關",null,{"$f":"E1","v":"苗栗看守所"}]
["月   (年)   報",{"$f":"D1","v":"月報次月10日、年報次年1月15日前編製"},null,null,null,null,null,null,null,null,null,null,null,null,null,null,null,null,null,null,null,null,null,null,null,null,null,null,null,null,"表　　號",null,{"$f":"F1","v":"10931-01-206"}]
[{"$f":"A1","v":"法務部矯正署苗栗看守所被告每日入、出及在所人數(含被管收人)"}]
[{"$f":"G1","v":"中華民國115年 1月至 2月"}]
[null,null,null,null,null,null,null,null,null,null,null,null,null,null,null,null,null,null,null,null,null,null,null,null,null,null,null,null,null,null,null,null,null,null,null,"單位：人、人次、人/日"]
["類別",null,null,"總計",null,"一日","二日","三日","四日","五日","六日","七日","八日","九日","十日","十一日","十二日","十三日","十四日","十五日","十六日","十七日","十八日","十九日","二十日","二十一日","二十二日","二十三日","二十四日","二十五日","二十六日","二十七日","二十八日","二十九日","三十日","三十一日"]
[null,null,null,"總人次","日平均"]
["入所人數",null,"計",75,1.27,0,0,0,0,0,0,0,0,0,0,0,0,0,0,0,0,0,0,0,0,0,0,0,0,0,0,0,0,0,0,0]
[null,null,"男",61,1.03,0,0,0,0,0,0,0,0,0,0,0,0,0,0,0,0,0,0,0,0,0,0,0,0,0,0,0,0,0,0,0]
[null,null,"女",14,0.24,0,0,0,0,0,0,0,0,0,0,0,0,0,0,0,0,0,0,0,0,0,0,0,0,0,0,0,0,0,0,0]
["出所人數",null,"計",73,1.24,0,0,0,0,0,0,0,0,0,0,0,0,0,0,0,0,0,0,0,0,0,0,0,0,0,0,0,0,0,0,0]
[null,null,"男",63,1.07,0,0,0,0,0,0,0,0,0,0,0,0,0,0,0,0,0,0,0,0,0,0,0,0,0,0,0,0,0,0,0]
[null,null,"女",10,0.17,0,0,0,0,0,0,0,0,0,0,0,0,0,0,0,0,0,0,0,0,0,0,0,0,0,0,0,0,0,0,0]
["留所人數",null,"計",5585,94.66,0,0,0,0,0,0,0,0,0,0,0,0,0,0,0,0,0,0,0,0,0,0,0,0,0,0,0,0,0,0,0]
[null,null,"男",4746,80.44,0,0,0,0,0,0,0,0,0,0,0,0,0,0,0,0,0,0,0,0,0,0,0,0,0,0,0,0,0,0,0]
[null,null,"女",839,14.22,0,0,0,0,0,0,0,0,0,0,0,0,0,0,0,0,0,0,0,0,0,0,0,0,0,0,0,0,0,0,0]
[]
[]
[{"$f":"IF(LEN(A2)>0,\"資料來源 : \"&A2,\" \")","v":"資料來源 : 各看守所依被告之刑案及身分資料查編，統計資料透過獄政管理系統傳送至法務部獄政主機資料庫，由法務部矯正署統計室查核並彙總編製。"}]
[{"$f":"IF(LEN(B2)>0,SUBSTITUTE(\"填表說明：\"&B2,CHAR(10),CHAR(10)&\"　　　　　\"),\" \")","v":"填表說明：1.本表各看守所查編製1式2份，1份送法務部矯正署，1份自存。\n　　　　　2.本表法務部矯正署統計室彙編製1式2份，1份送法務部統計處，1份自存。"}]

{"sheet":"10931-01-706","index":5,"n_rows":22,"n_cols":36,"rows_kept":22,"cut":false,"hidden":false,"merged":[[9,0,11,1],[12,0,14,1],[15,0,17,1],[20,0,20,35],[21,0,21,35],[7,22,8,22],[7,35,8,35],[7,24,8,24],[7,25,8,25],[7,26,8,26],[7,27,8,27],[7,28,8,28],[7,29,8,29],[7,30,8,30],[7,31,8,31],[7,32,8,32],[7,33,8,33],[7,34,8,34],[7,17,8,17],[7,18,8,18],[7,19,8,19],[7,20,8,20],[7,21,8,21],[5,0,5,35],[7,0,8,2],[7,3,7,4],[7,5,8,5],[7,6,8,6],[7,7,8,7],[7,8,8,8],[7,9,8,9],[7,10,8,10],[7,11,8,11],[7,23,8,23],[7,12,8,12],[7,13,8,13],[7,14,8,14],[7,15,8,15],[7,16,8,16],[4,0,4,35],[2,30,2,31],[2,32,2,35],[3,1,3,5],[3,30,3,31],[3,32,3,35]]}
["法務部矯正署苗栗看守所附設勒戒所成年受觀察勒戒人每日出入及在所人數","公　開　類","月　　　報","月報次月10日、年報次年1月15日前編製","苗栗看守所附設勒戒所","10931-01-706","中華民國115年 1月至 2月"]
["各戒治(看守)所附設勒戒處所依成年受觀察勒戒人之刑案及身分資料查編，統計資料透過獄政管理系統傳送至法務部獄政主機資料庫，由法務部矯正署統計室查核並彙總編製。","1.本表各戒治(看守)所附設勒戒處所查編製1式2份，1份送法務部矯正署，1份自存。\n2.本表法務部矯正署統計室彙編製1式2份，1份送法務部統計處，1份自存。","民國115年 3月 3日",null,null,null,null,{"$f":"\"中華\"&C2&\"編製\"","v":"中華民國115年 3月 3日編製"}]
[{"$f":"B1","v":"公　開　類"},null,null,null,null,null,null,null,null,null,null,null,null,null,null,null,null,null,null,null,null,null,null,null,null,null,null,null,null,null,"編製機關",null,{"$f":"E1","v":"苗栗看守所附設勒戒所"}]
["月   (年)   報",{"$f":"D1","v":"月報次月10日、年報次年1月15日前編製"},null,null,null,null,null,null,null,null,null,null,null,null,null,null,null,null,null,null,null,null,null,null,null,null,null,null,null,null,"表　　號",null,{"$f":"F1","v":"10931-01-706"}]
[{"$f":"A1","v":"法務部矯正署苗栗看守所附設勒戒所成年受觀察勒戒人每日出入及在所人數"}]
[{"$f":"G1","v":"中華民國115年 1月至 2月"}]
[null,null,null,null,null,null,null,null,null,null,null,null,null,null,null,null,null,null,null,null,null,null,null,null,null,null,null,null,null,null,null,null,null,null,null,"單位：人、人次、人/日"]
["類別",null,null,"總計",null,"一日","二日","三日","四日","五日","六日","七日","八日","九日","十日","十一日","十二日","十三日","十四日","十五日","十六日","十七日","十八日","十九日","二十日","二十一日","二十二日","二十三日","二十四日","二十五日","二十六日","二十七日","二十八日","二十九日","三十日","三十一日"]
[null,null,null,"總人次","日平均"]
["入所人數",null,"計",17,0.28999999999999998,0,0,0,0,0,0,0,0,0,0,0,0,0,0,0,0,0,0,0,0,0,0,0,0,0,0,0,0,0,0,0]
[null,null,"男",15,0.25,0,0,0,0,0,0,0,0,0,0,0,0,0,0,0,0,0,0,0,0,0,0,0,0,0,0,0,0,0,0,0]
[null,null,"女",2,0.03,0,0,0,0,0,0,0,0,0,0,0,0,0,0,0,0,0,0,0,0,0,0,0,0,0,0,0,0,0,0,0]
["出所人數",null,"計",16,0.27,0,0,0,0,0,0,0,0,0,0,0,0,0,0,0,0,0,0,0,0,0,0,0,0,0,0,0,0,0,0,0]
[null,null,"男",14,0.24,0,0,0,0,0,0,0,0,0,0,0,0,0,0,0,0,0,0,0,0,0,0,0,0,0,0,0,0,0,0,0]
[null,null,"女",2,0.03,0,0,0,0,0,0,0,0,0,0,0,0,0,0,0,0,0,0,0,0,0,0,0,0,0,0,0,0,0,0,0]
["在所人數",null,"計",74,1.25,0,0,0,0,0,0,0,0,0,0,0,0,0,0,0,0,0,0,0,0,0,0,0,0,0,0,0,0,0,0,0]
[null,null,"男",66,1.1200000000000001,0,0,0,0,0,0,0,0,0,0,0,0,0,0,0,0,0,0,0,0,0,0,0,0,0,0,0,0,0,0,0]
[null,null,"女",8,0.14000000000000001,0,0,0,0,0,0,0,0,0,0,0,0,0,0,0,0,0,0,0,0,0,0,0,0,0,0,0,0,0,0,0]
[]
[]
[{"$f":"IF(LEN(A2)>0,\"資料來源 : \"&A2,\" \")","v":"資料來源 : 各戒治(看守)所附設勒戒處所依成年受觀察勒戒人之刑案及身分資料查編，統計資料透過獄政管理系統傳送至法務部獄政主機資料庫，由法務部矯正署統計室查核並彙總編製。"}]
[{"$f":"IF(LEN(B2)>0,SUBSTITUTE(\"填表說明：\"&B2,CHAR(10),CHAR(10)&\"　　　　　\"),\" \")","v":"填表說明：1.本表各戒治(看守)所附設勒戒處所查編製1式2份，1份送法務部矯正署，1份自存。\n　　　　　2.本表法務部矯正署統計室彙編製1式2份，1份送法務部統計處，1份自存。"}]